BEGIN:VCALENDAR
VERSION:2.0
PRODID:-//eventon.com NONSGML v1.0//EN
CALSCALE:GREGORIAN
METHOD:PUBLISH
BEGIN:VEVENT
UID:69e80a179965d
DTSTAMP:20260421T233655Z
DTSTART:20240213T150000Z
DTEND:20240213T190000Z
LOCATION:Hughes Retirement Group 1035 Peerless Crossing NW Cleveland\,  TN 37312
SUMMARY:Medicare Class - Cleveland Feb. 13th
DESCRIPTION:Join us for the A\, B\, C&#8217;s of Medicare in our Cleveland 
 office.  We will have free\,  educational classes at 10:00 am and 2:00 pm 
 on this day.  Be sure to let us know which time you would like to attend.\
 nhttps://hughesretirementgroup.com/events/medicare-class-cleveland-feb-13th
 /
URL:https://hughesretirementgroup.com/events/medicare-class-cleveland-feb-13th/
END:VEVENT
END:VCALENDAR