BEGIN:VCALENDAR
VERSION:2.0
PRODID:-//eventon.com NONSGML v1.0//EN
CALSCALE:GREGORIAN
METHOD:PUBLISH
BEGIN:VEVENT
UID:69e9dd9fbaa48
DTSTAMP:20260423T085143Z
DTSTART:20260423T221500Z
DTEND:20260423T233000Z
LOCATION:Cleveland State Community College 3535 Adkisson Dr\,  Cleveland\,  TN 37312
SUMMARY:Navigating Retirement - April 23rd @ Cleveland State 6:15 pm
DESCRIPTION:Navigating Retirement? Choosing The Right Guide Matters &#8211;
 Strategies to help ensure you don&#8217;t run out of money in retirement &#
 8211;Ways to protect against market volatility &#8211;How to turn your savi
 ngs into a steady\,  reliable income &#8211;What if Social Security benefit
 s are reduced in 2033? &#8211;How Healthcare and LTC costs can[..]\nhttps:/
 /hughesretirementgroup.com/events/navigating-retirement-april-23rd-clevelan
 d-state-615-pm/
URL:https://hughesretirementgroup.com/events/navigating-retirement-april-23rd-cleveland-state-615-pm/
END:VEVENT
END:VCALENDAR