BEGIN:VCALENDAR
VERSION:2.0
PRODID:-//eventon.com NONSGML v1.0//EN
CALSCALE:GREGORIAN
METHOD:PUBLISH
BEGIN:VEVENT
UID:69e7369f60567
DTSTAMP:20260421T083439Z
DTSTART:20260421T221500Z
DTEND:20260421T233000Z
LOCATION:Tennessee Wesleyan University 204 E. College Street
SUMMARY:Navigating Retirement - April 21st @ TN Wesleyan 6:15 pm
DESCRIPTION:Navigating Retirement? Choosing The Right Guide Matters &#8211;
 Strategies to help ensure you don&#8217;t run out of money in retirement &#
 8211;Ways to protect against market volatility &#8211;How to turn your savi
 ngs into a steady\,  reliable income &#8211;What if Social Security benefit
 s are reduced in 2033? &#8211;How Healthcare and LTC costs can[..]\nhttps:/
 /hughesretirementgroup.com/events/navigating-retirement-april-21st-tn-wesle
 yan-615-pm/
URL:https://hughesretirementgroup.com/events/navigating-retirement-april-21st-tn-wesleyan-615-pm/
END:VEVENT
END:VCALENDAR